BEGIN:VCALENDAR
VERSION:2.0
PRODID:-//ChamberMaster//Event Calendar 2.0//EN
METHOD:PUBLISH
X-PUBLISHED-TTL:P3D
REFRESH-INTERVAL:P3D
CALSCALE:GREGORIAN
BEGIN:VEVENT
DTSTART:20260429T230000Z
DTEND:20260430T003000Z
X-MICROSOFT-CDO-ALLDAYEVENT:FALSE
SUMMARY:2026 Audaz Leadership Program Class 4
DESCRIPTION:Audaz Leadership Program   Class 4\n\nOverview\n\nThis session is designed to reinforce the principles introduced in earlier classes by giving participants the opportunity to present their real-world fundraising progress\, reflect on what they've learned\, and exchange insights with their peers.\n\nFundraising is both a leadership exercise and a community-building discipline. By sharing experiences\, challenges\, and breakthroughs\, participants strengthen their ability to:\n\n\n	Communicate value\n	Leverage networks\n	Make confident and intentional asks\n	Work strategically within teams\n	Apply leadership roles (Storyteller\, Hammer\, Strategist\, Connector) in real scenarios\n\n\nSession 4 emphasizes applied learning\, accountability\, and the power of collective feedback.
X-ALT-DESC;FMTTYPE=text/html:<h2 data-end="239" data-start="196"><strong data-end="237" data-start="199">Audaz Leadership Program &ndash\; Class 4</strong></h2>\n\n<p class="cvGsUA direction-ltr align-justify para-style-body" style="color: rgba(5\,50\,89\,var(--O42jJQ\,1))\; caret-color: rgb(5\, 50\, 89)\; --8sD0Kg:  none\; font-family: YAFdtQi73Xs_0\, _fb_\, auto\; --cyV3ZQ:  18.6667px\; --gJPlXQ:  1.4\; --s8NbEA:  p\; line-height: 26px\;"><span class="a_GcMg font-feature-liga-off font-feature-clig-off font-feature-calt-off text-decoration-none text-strikethrough-none" style="color: rgba(5\,50\,89\,var(--O42jJQ\,1))\; --Ys-XuQ:  none\; font-weight: 700\; -webkit-font-kerning: none\;">Overview</span></p>\n\n<p class="cvGsUA direction-ltr align-justify para-style-body" style="color: rgba(5\,50\,89\,var(--O42jJQ\,1))\; caret-color: rgb(5\, 50\, 89)\; --8sD0Kg:  none\; font-family: YAFdtQi73Xs_0\, _fb_\, auto\; --cyV3ZQ:  18.6667px\; --gJPlXQ:  1.4\; --s8NbEA:  p\; line-height: 26px\;"><span class="a_GcMg font-feature-liga-off font-feature-clig-off font-feature-calt-off text-decoration-none text-strikethrough-none" style="color: rgba(5\,50\,89\,var(--O42jJQ\,1))\; --Ys-XuQ:  none\; -webkit-font-kerning: none\;">This session is designed to reinforce the principles introduced in earlier classes by giving participants the opportunity to present their real-world fundraising progress\, reflect on what they&rsquo\;ve learned\, and exchange insights with their peers.</span></p>\n\n<p class="cvGsUA direction-ltr align-justify para-style-body" style="color: rgba(5\,50\,89\,var(--O42jJQ\,1))\; caret-color: rgb(5\, 50\, 89)\; --8sD0Kg:  none\; font-family: YAFdtQi73Xs_0\, _fb_\, auto\; --cyV3ZQ:  18.6667px\; --gJPlXQ:  1.4\; --s8NbEA:  p\; line-height: 26px\;"><span class="a_GcMg font-feature-liga-off font-feature-clig-off font-feature-calt-off text-decoration-none text-strikethrough-none" style="color: rgba(5\,50\,89\,var(--O42jJQ\,1))\; --Ys-XuQ:  none\; -webkit-font-kerning: none\;">Fundraising is both a leadership exercise and a community-building discipline. By sharing experiences\, challenges\, and breakthroughs\, participants strengthen their ability to:</span></p>\n\n<ul style="caret-color: rgb(0\, 0\, 0)\; color: rgb(0\, 0\, 0)\;">\n	<li><span class="a_GcMg font-feature-liga-off font-feature-clig-off font-feature-calt-off text-decoration-none text-strikethrough-none" style="color: rgba(5\,50\,89\,var(--O42jJQ\,1))\; caret-color: rgb(5\, 50\, 89)\; --Ys-XuQ:  none\; -webkit-font-kerning: none\;">Communicate value</span></li>\n	<li><span class="a_GcMg font-feature-liga-off font-feature-clig-off font-feature-calt-off text-decoration-none text-strikethrough-none" style="color: rgba(5\,50\,89\,var(--O42jJQ\,1))\; caret-color: rgb(5\, 50\, 89)\; --Ys-XuQ:  none\; -webkit-font-kerning: none\;">Leverage networks</span></li>\n	<li><span class="a_GcMg font-feature-liga-off font-feature-clig-off font-feature-calt-off text-decoration-none text-strikethrough-none" style="color: rgba(5\,50\,89\,var(--O42jJQ\,1))\; caret-color: rgb(5\, 50\, 89)\; --Ys-XuQ:  none\; -webkit-font-kerning: none\;">Make confident and intentional asks</span></li>\n	<li><span class="a_GcMg font-feature-liga-off font-feature-clig-off font-feature-calt-off text-decoration-none text-strikethrough-none" style="color: rgba(5\,50\,89\,var(--O42jJQ\,1))\; caret-color: rgb(5\, 50\, 89)\; --Ys-XuQ:  none\; -webkit-font-kerning: none\;">Work strategically within teams</span></li>\n	<li><span class="a_GcMg font-feature-liga-off font-feature-clig-off font-feature-calt-off text-decoration-none text-strikethrough-none" style="color: rgba(5\,50\,89\,var(--O42jJQ\,1))\; caret-color: rgb(5\, 50\, 89)\; --Ys-XuQ:  none\; -webkit-font-kerning: none\;">Apply leadership roles (Storyteller\, Hammer\, Strategist\, Connector) in real scenarios</span></li>\n</ul>\n\n<p class="cvGsUA direction-ltr align-justify para-style-body" style="color: rgba(5\,50\,89\,var(--O42jJQ\,1))\; caret-color: rgb(5\, 50\, 89)\; --8sD0Kg:  none\; font-family: YAFdtQi73Xs_0\, _fb_\, auto\; --cyV3ZQ:  18.6667px\; --gJPlXQ:  1.4\; --s8NbEA:  p\; line-height: 26px\;"><span class="a_GcMg font-feature-liga-off font-feature-clig-off font-feature-calt-off text-decoration-none text-strikethrough-none" style="color: rgba(5\,50\,89\,var(--O42jJQ\,1))\; --Ys-XuQ:  none\; -webkit-font-kerning: none\;">Session 4 emphasizes applied learning\, accountability\, and the power of collective feedback.</span></p>\n
LOCATION:1327 N Main Street Fort Worth\, TX 76164
UID:e.2826.5119345
SEQUENCE:3
DTSTAMP:20260422T215212Z
URL:http://fwhcc.chambermaster.com/events/details/2026-audaz-leadership-program-class-4-5119345
END:VEVENT

END:VCALENDAR
